Workbook

Sheet まずお読みください　入力手順 と データ送信先
A1: 第41回近畿高等学校新人卓球大会 参加申込書作成 の手順について
R2: (以下の手順でお願いします)
A4: 1 | C4: Excelのファイル(41sanka-pref-BG-school.xlsx) の入力
B6: ① | C6: 「学校・選手データ」 シートに
C8: 学校情報 （ 学校名 ・ 所在地 ・ 郵便番号 ・ 電話番号 ・ チームの男女別 ・ 学校長名 などを ）
C9: 選手データ （ 氏名 ・ フリガナ ・ 性別 ・生年月日 ・ 年齢 ・ 学年 などを ） を入力します。
C10: 日本卓球協会の選手登録からデータをコピーして値を貼り付けます。ただし、学年は直接入力して下さい。
C11: 監督のデータについても選手と同じ欄に入力願います。
C12: ※会員ID・漢字氏名・フリガナ・生年月日・学年を直接入力も可ですが、左詰めで姓と名前の間は半角空白を入れてください。
C13: ※卓球協会のデータに外字の使用はないと思いますが、必要な場合参加申込書に手書きで指示を願います。
B15: ② | C15: 「申込書」シートに
C17: 選手・監督の整理番号（ 「学校・選手データ」シートＡ列 ） と 各選手が出場する種目を入力して、申込書を完成させます。
C19: ※種目の欄は「１」を入力すると「○」が表示されますので、必ず数字「1」で入れてください。 ○を入力しないでください。
A23: 2 | C23: Excelのファイル(41sanka-pref-BG-school.xlsx) の保存
C25: 入力していただいた Excelのファイル(41sanka-pref-BG-school.xlsx) は、
C26: そのまま一度保存してください。
A30: 3 | C30: 参加申込書の印刷 ・ 学校長印の押印
C32: 「申込書」シートに必要なデータが表示されていることを確認の上、シートを印刷します。
C33: 次に、印刷した参加申込書に学校長印の押印を願います。
A37: 4 | C37: Excelファイル(41sanka-pref-BG-school.xlsx) の 名前を変更
C39: ファイル名の" pref-BG-school "という部分を例に倣って変更してください。
E40: （ BG は男子チームはB、女子チームはGでお願いします ）
E41: （ schoolには 学校名(５文字以内略称) をお願いします ）
B45: （例） | C45: 和歌山県 男子 県立潮岬高等学校 → 41sanka-和歌山-B-潮岬.xlsx
C46: 奈良県 男子 橿原市立藤原宮高等学校 → 41sanka-奈良-B-藤原宮.xlsx
C47: 京都府 女子 私立平安大学附属嵐山高等学校 → 41sanka-京都-G-平安大嵐山.xlsx
A52: 5 | C52: 参加申込書の送付 ・ 名前変更したExcelファイルの送付
B54: ① | C54: 押印済みの参加申込書は各府県の指定された期日までに、各府県卓球専門部委員長まで送付してください。
B56: ② | C56: 名前変更したExcelファイルは、開催地と自校の府県の担当者２カ所に送信して下さい。
A58: 【データ送信先】
A60: ★開催地 | B60: 京 都 | C60: nakatani44@kyoto-tt.net | D60: 京都府高体連卓球専門部 | E60: 中谷 勝彦
A62: ★各府県別送信先（自校の府県の担当者に送信して下さい）
B63: 大 阪 | C63: ogawataiji6210@gmail.com | D63: 大阪府高体連卓球専門部 | E63: 小川 泰司
B64: 兵 庫 | C64: hhaf-ttn-info@hyogo-c.ed.jp | D64: 兵庫県高体連卓球専門部 | E64: 上石 修平
B65: 滋 賀 | C65: st24250095@ms.pref-shiga.ed.jp | D65: 滋賀県高体連卓球専門部 | E65: 松村 大介
B66: 奈 良 | C66: makotom300@e-net.nara.jp | D66: 奈良県高体連卓球専門部 | E66: 南岡 誠人
B67: 和歌山 | C67: suzuri-t001@wakayama-c.ed.jp | D67: 和歌山県高体連卓球専門部 | E67: 硯 智史
A71: その他 | C71: 監督・選手変更届 と 外部指導者申請書 について
C73: 変更届・外部指導者シートは、必要に応じて入力・印刷・押印してご利用ください。
C75: 監督・選手変更届は 大会1日目の開会式までに各府県の専門委員長に提出お願いします。
...

Sheet 学校･選手ﾃﾞｰﾀ
A1: 【学校のデータ】
A2: ★まず最初に学校データを入力して下さい。その後下の選手のデータを作成します。
A3: 学校名（正式名称） | C3: 高等学校 | E3: ５文字以内略称 | H3: 略称フリガナ | R3: リスト | S3: 男子 | T3: 大阪
A4: 学校所在地 | G4: 郵便番号 | K4: （ーは必要ありません） | S4: 女子 | T4: 兵庫
A5: 電話番号 | F5: 男女 | H5: 府県名 | T5: 滋賀
A6: 学校長名 | E6: 引率責任者 | I6: （監督と別の場合） | T6: 奈良
T7: 和歌山
A8: 【選手のデータ】 | T8: 京都
A9: ★日本卓球協会の選手登録からデータをコピーして値を貼り付けて下さい。ただし、学年は直接入力して下さい。
B10: （会員ID・漢字氏名・フリガナ・生年月日・学年を直接入力も可）
A11: 整理 番号 | B11: 会員 ID | C11: 漢字氏名 左詰めで姓と名の間は半角空白を入れる | D11: フリガナ（全角） 左詰めで姓と名の間は半角空白を入れる | E11: 氏名（ローマ字） | F11: 性別 | G11: 生年月日 西暦で | H11: 年齢 | I11: 段位 | J11: 学年
E12: ※手入力は必要なし | G12: 年/月/日 | H12: 4/1時点 | J12: 数は半角
A13: 1
A14: 2
A15: 3
A16: 4
A17: 5
A18: 6
A19: 7
A20: 8
A21: 9
A22: 10
A23: 11
A24: 12
... A42: 30

Sheet 申込書
G1: 第41回近畿高等学校新人卓球大会 | AM1: リスト | AN1: 男子 | AO1: 46378 | AP1: 大阪 | AQ1: リストは消さないこと
G2: 参 加 申 込 書 | AN2: 女子 | AP2: 兵庫
AP3: 滋賀
B4: 男女の部 | E4: =学校･選手ﾃﾞｰﾀ!G5 -> 0 | I4: 府県名 | K4: =学校･選手ﾃﾞｰﾀ!K5 -> 0 | AP4: 奈 良
B5: フリガナ 学 校 名 （５文字以内） | G5: =学校･選手ﾃﾞｰﾀ!$K$3 -> 0 | Q5: TEL | S5: =学校･選手ﾃﾞｰﾀ!C5 -> 0 | U5: － | V5: =学校･選手ﾃﾞｰﾀ!D5 -> 0 | X5: － | Y5: =学校･選手ﾃﾞｰﾀ!E5 -> 0 | AP5: 和歌山
G6: =LEFT(学校･選手ﾃﾞｰﾀ!$F$3,1) | I6: =MID(学校･選手ﾃﾞｰﾀ!$F$3,2,1) | K6: =MID(学校･選手ﾃﾞｰﾀ!$F$3,3,1) | M6: =MID(学校･選手ﾃﾞｰﾀ!$F$3,4,1) | O6: =MID(学校･選手ﾃﾞｰﾀ!$F$3,5,1) | AP6: 京 都
B7: 学校所在地 | G7: 〒 | H7: =学校･選手ﾃﾞｰﾀ!H4 -> 0 | J7: － | K7: =学校･選手ﾃﾞｰﾀ!I4 -> 0
G8: =学校･選手ﾃﾞｰﾀ!C4 -> 0
B10: 区 分 | F10: 会員ID | J10: フ リ ガ ナ | R10: 学年 | T10: 年齢 | V10: 種 目 （○が参加種目です) | AD10: 整理 番号 | AM10: 生年月日 ここは入力しない
J11: 氏 名
V12: 団体 | X12: ﾀﾞﾌﾞﾙｽ | Z12: ｼﾝｸﾞﾙｽ
B13: 監 督 | F13: =IF(AD13="","",VLOOKUP(AD13,学校･選手ﾃﾞｰﾀ!$A$13:$J$42,2)) | J13: =IF(AD13="","",VLOOKUP(AD13,学校･選手ﾃﾞｰﾀ!$A$13:$J$42,4))
J14: =IF(AD13="","",VLOOKUP(AD13,学校･選手ﾃﾞｰﾀ!$A$13:$J$42,3))
B15: 選 手 1 | F15: =IF(AD15="","",VLOOKUP(AD15,学校･選手ﾃﾞｰﾀ!$A$13:$J$42,2)) | J15: =IF(AD15="","",VLOOKUP(AD15,学校･選手ﾃﾞｰﾀ!$A$13:$J$42,4)) | R15: =IF(AD15="","",VLOOKUP(AD15,学校･選手ﾃﾞｰﾀ!$A$13:$J$42,10)) | T15: =IF(AD15="","",DATEDIF(AM15,$AO$1,"Y")) | AM15: =IF(AD15="","",VLOOKUP(AD15,学校･選手ﾃﾞｰﾀ!$A$13:$J$42,7))
J16: =IF(AD15="","",VLOOKUP(AD15,学校･選手ﾃﾞｰﾀ!$A$13:$J$42,3))
B17: 選 手 2 | F17: =IF(AD17="","",VLOOKUP(AD17,学校･選手ﾃﾞｰﾀ!$A$13:$J$42,2)) | J17: =IF(AD17="","",VLOOKUP(AD17,学校･選手ﾃﾞｰﾀ!$A$13:$J$42,4)) | R17: =IF(AD17="","",VLOOKUP(AD17,学校･選手ﾃﾞｰﾀ!$A$13:$J$42,10)) | T17: =IF(AD17="","",DATEDIF(AM17,$AO$1,"Y")) | AM17: =IF(AD17="","",VLOOKUP(AD17,学校･選手ﾃﾞｰﾀ!$A$13:$J$42,7))
J18: =IF(AD17="","",VLOOKUP(AD17,学校･選手ﾃﾞｰﾀ!$A$13:$J$42,3))
B19: 選 手 3 | F19: =IF(AD19="","",VLOOKUP(AD19,学校･選手ﾃﾞｰﾀ!$A$13:$J$42,2)) | J19: =IF(AD19="","",VLOOKUP(AD19,学校･選手ﾃﾞｰﾀ!$A$13:$J$42,4)) | R19: =IF(AD19="","",VLOOKUP(AD19,学校･選手ﾃﾞｰﾀ!$A$13:$J$42,10)) | T19: =IF(AD19="","",DATEDIF(AM19,$AO$1,"Y")) | AM19: =IF(AD19="","",VLOOKUP(AD19,学校･選手ﾃﾞｰﾀ!$A$13:$J$42,7))
J20: =IF(AD19="","",VLOOKUP(AD19,学校･選手ﾃﾞｰﾀ!$A$13:$J$42,3))
B21: 選 手 4 | F21: =IF(AD21="","",VLOOKUP(AD21,学校･選手ﾃﾞｰﾀ!$A$13:$J$42,2)) | J21: =IF(AD21="","",VLOOKUP(AD21,学校･選手ﾃﾞｰﾀ!$A$13:$J$42,4)) | R21: =IF(AD21="","",VLOOKUP(AD21,学校･選手ﾃﾞｰﾀ!$A$13:$J$42,10)) | T21: =IF(AD21="","",DATEDIF(AM21,$AO$1,"Y")) | AM21: =IF(AD21="","",VLOOKUP(AD21,学校･選手ﾃﾞｰﾀ!$A$13:$J$42,7))
J22: =IF(AD21="","",VLOOKUP(AD21,学校･選手ﾃﾞｰﾀ!$A$13:$J$42,3))
B23: 選 手 5 | F23: =IF(AD23="","",VLOOKUP(AD23,学校･選手ﾃﾞｰﾀ!$A$13:$J$42,2)) | J23: =IF(AD23="","",VLOOKUP(AD23,学校･選手ﾃﾞｰﾀ!$A$13:$J$42,4)) | R23: =IF(AD23="","",VLOOKUP(AD23,学校･選手ﾃﾞｰﾀ!$A$13:$J$42,10)) | T23: =IF(AD23="","",DATEDIF(AM23,$AO$1,"Y")) | AM23: =IF(AD23="","",VLOOKUP(AD23,学校･選手ﾃﾞｰﾀ!$A$13:$J$42,7))
J24: =IF(AD23="","",VLOOKUP(AD23,学校･選手ﾃﾞｰﾀ!$A$13:$J$42,3))
B25: 選 手 6 | F25: =IF(AD25="","",VLOOKUP(AD25,学校･選手ﾃﾞｰﾀ!$A$13:$J$42,2)) | J25: =IF(AD25="","",VLOOKUP(AD25,学校･選手ﾃﾞｰﾀ!$A$13:$J$42,4)) | R25: =IF(AD25="","",VLOOKUP(AD25,学校･選手ﾃﾞｰﾀ!$A$13:$J$42,10)) | T25: =IF(AD25="","",DATEDIF(AM25,$AO$1,"Y")) | AM25: =IF(AD25="","",VLOOKUP(AD25,学校･選手ﾃﾞｰﾀ!$A$13:$J$42,7))
J26: =IF(AD25="","",VLOOKUP(AD25,学校･選手ﾃﾞｰﾀ!$A$13:$J$42,3))
B27: 選 手 7 | F27: =IF(AD27="","",VLOOKUP(AD27,学校･選手ﾃﾞｰﾀ!$A$13:$J$42,2)) | J27: =IF(AD27="","",VLOOKUP(AD27,学校･選手ﾃﾞｰﾀ!$A$13:$J$42,4)) | R27: =IF(AD27="","",VLOOKUP(AD27,学校･選手ﾃﾞｰﾀ!$A$13:$J$42,10)) | T27: =IF(AD27="","",DATEDIF(AM27,$AO$1,"Y")) | AM27: =IF(AD27="","",VLOOKUP(AD27,学校･選手ﾃﾞｰﾀ!$A$13:$J$42,7))
J28: =IF(AD27="","",VLOOKUP(AD27,学校･選手ﾃﾞｰﾀ!$A$13:$J$42,3))
B29: 選 手 8 | F29: =IF(AD29="","",VLOOKUP(AD29,学校･選手ﾃﾞｰﾀ!$A$13:$J$42,2)) | J29: =IF(AD29="","",VLOOKUP(AD29,学校･選手ﾃﾞｰﾀ!$A$13:$J$42,4)) | R29: =IF(AD29="","",VLOOKUP(AD29,学校･選手ﾃﾞｰﾀ!$A$13:$J$42,10)) | T29: =IF(AD29="","",DATEDIF(AM29,$AO$1,"Y")) | AM29: =IF(AD29="","",VLOOKUP(AD29,学校･選手ﾃﾞｰﾀ!$A$13:$J$42,7))
J30: =IF(AD29="","",VLOOKUP(AD29,学校･選手ﾃﾞｰﾀ!$A$13:$J$42,3))
B31: 選 手 9 | F31: =IF(AD31="","",VLOOKUP(AD31,学校･選手ﾃﾞｰﾀ!$A$13:$J$42,2)) | J31: =IF(AD31="","",VLOOKUP(AD31,学校･選手ﾃﾞｰﾀ!$A$13:$J$42,4)) | R31: =IF(AD31="","",VLOOKUP(AD31,学校･選手ﾃﾞｰﾀ!$A$13:$J$42,10)) | T31: =IF(AD31="","",DATEDIF(AM31,$AO$1,"Y")) | AM31: =IF(AD31="","",VLOOKUP(AD31,学校･選手ﾃﾞｰﾀ!$A$13:$J$42,7))
J32: =IF(AD31="","",VLOOKUP(AD31,学校･選手ﾃﾞｰﾀ!$A$13:$J$42,3))
B33: 選 手 10 | F33: =IF(AD33="","",VLOOKUP(AD33,学校･選手ﾃﾞｰﾀ!$A$13:$J$42,2)) | J33: =IF(AD33="","",VLOOKUP(AD33,学校･選手ﾃﾞｰﾀ!$A$13:$J$42,4)) | R33: =IF(AD33="","",VLOOKUP(AD33,学校･選手ﾃﾞｰﾀ!$A$13:$J$42,10)) | T33: =IF(AD33="","",DATEDIF(AM33,$AO$1,"Y")) | AM33: =IF(AD33="","",VLOOKUP(AD33,学校･選手ﾃﾞｰﾀ!$A$13:$J$42,7))
J34: =IF(AD33="","",VLOOKUP(AD33,学校･選手ﾃﾞｰﾀ!$A$13:$J$42,3))
F36: 引率責任者氏名 | K36: =IF(学校･選手ﾃﾞｰﾀ!F6="","",学校･選手ﾃﾞｰﾀ!F6) | U36: （監督と同じ場合は不要）
B38: 上記の者は本校在学中で、標記大会に出場することを認めます。
E40: =TODAY() -> 46325 | AF40: 日付はファイルを開いた日になります
E42: =学校･選手ﾃﾞｰﾀ!$C$3&"長" -> 高等学校長 | Q42: =学校･選手ﾃﾞｰﾀ!$C$6 -> 0
A45: ここから下は2枚目です。
G46: =G1 -> 第41回近畿高等学校新人卓球大会
G47: 参 加 申 込 書
...

Sheet 外部指導者
A1: 第41回近畿高等学校新人卓球大会委員長 様
A3: 外 部 指 導 者 申 請 書
A5: 学校名 | E5: =学校･選手ﾃﾞｰﾀ!C3 -> 高等学校 | P5: 府県名 | R5: =学校･選手ﾃﾞｰﾀ!$K$5 -> 0
A7: 指導者名
E9: 上記の者を本校の外部指導者とすることを許可しました。
C11: =TODAY() -> 46325
I13: =学校･選手ﾃﾞｰﾀ!$C$3 -> 高等学校
I15: 校長 | K15: =学校･選手ﾃﾞｰﾀ!$C$6 -> 0
A17: スポーツ安全保険加入証明書添付欄（コピー可）
I30: 申請者 顧問 | T30: ㊞
A32: (注) | C32: 外部指導者として登録すると自動的に当該校の監督になります。
C33: 個人戦のアドバイザーは大会申込時にエントリーされた当該校の監督・選手に限ります。
C34: 監督でない顧問・引率責任者はアドバイザーになれません。

Sheet 変更届
B1: 第41回近畿高等学校新人卓球大会委員長 様
F3: 監督・選手変更届 | P3: （誤字訂正等を含む）
AE4: リスト | AF4: 男子 | AG4: 選手 | AH4: 学校対抗 | AI4: 変 更
B5: 府県名 | E5: =学校･選手ﾃﾞｰﾀ!K5 -> 0 | I5: 学校名 | L5: =学校･選手ﾃﾞｰﾀ!C3 -> 高等学校 | X5: 整理 番号 | AF5: 女子 | AG5: 監督 | AH5: ダブルス | AI5: 訂 正
B6: 引率責任者または監督氏名 | L6: =IF(X6="","",VLOOKUP(X6,学校･選手ﾃﾞｰﾀ!$A$13:$J$42,3)) -> 0 | U6: ㊞ | X6: 2 | AH6: シングルス | AI6: 棄 権
F8: 1 | N8: 2
B9: 項 目 | F9: ドロップダウンリストから 選んでください | N9: ドロップダウンリストから 選んでください
B10: 変更区分 | F10: 男子 | J10: 監督 | N10: 男子 | R10: 選手
B11: 種 目 | F11: ドロップダウンリストから 選んでください | N11: ドロップダウンリストから 選んでください | X11: 整理番号
B12: 変更前氏名 | F12: =IF(X12="","",VLOOKUP(X12,学校･選手ﾃﾞｰﾀ!$A$13:$J$42,3)) | N12: =IF(Y12="","",VLOOKUP(Y12,学校･選手ﾃﾞｰﾀ!$A$13:$J$42,3))
B13: 変更後氏名 学年 | F13: =IF(X13="","",VLOOKUP(X13,学校･選手ﾃﾞｰﾀ!$A$13:$J$42,3)) | N13: =IF(Y13="","",VLOOKUP(Y13,学校･選手ﾃﾞｰﾀ!$A$13:$J$42,3))
I14: 学年 | K14: =IF(X13="","",VLOOKUP(X13,学校･選手ﾃﾞｰﾀ!$A$13:$J$42,10)) | M14: 年 | Q14: 学年 | S14: =IF(Y13="","",VLOOKUP(Y13,学校･選手ﾃﾞｰﾀ!$A$13:$J$42,10)) | U14: 年
B15: 変更理由
F18: 専門委員長 | J18: 確認署名
F20: 審 判 長 | J20: 確認署名
B22: （注）選手変更は学校対抗のみ出来ます。 監督変更はすべての種目で可能です

Sheet 変更届 (手書き用)
B1: 第41回近畿高等学校新人卓球大会委員長 様
F3: 監督・選手変更届 | P3: （誤字訂正･棄権を含む）
B5: 府県名 | I5: 学校名
B6: 引率責任者または監督氏名 | U6: ㊞
F8: 1 | N8: 2
B9: 項 目 | F9: 変更 ・ 訂正 ・ 棄権 | N9: 変更 ・ 訂正 ・ 棄権
B10: 変更区分 | F10: 男子・女子 | J10: 選手・監督 | N10: 男子・女子 | R10: 選手・監督
B11: 種 目 | F11: 学校対抗・ダブルス・シングルス | N11: 学校対抗・ダブルス・シングルス
B12: 変更前氏名
B13: 変更後氏名 学年
I14: 学年 | M14: 年 | Q14: 学年 | U14: 年
B15: 変更理由
F18: 専門委員長 | J18: 確認署名
F20: 審 判 長 | J20: 確認署名
C21: （注）選手変更は学校対抗のみ出来ます。 監督変更はすべての種目で可能です

Sheet プログラム用名簿
A1: 【学校対抗】 | N1: 【シングルス・ダブルス】 | S1: 参加 | X1: 参加 | AA1: 【学校対抗 オーダー用】 | AK1: 【シングルス・ダブルス記録用紙用】 | AS1: 参加
B2: 学校名 | M2: No. | N2: 名 前 | O2: 学年 | P2: 学校名 | S2: D | T2: S | V2: 名前 | W2: フリガナ | X2: D | Y2: S | AJ2: No. | AK2: 名 前 | AL2: フリガナ | AM2: 学年 | AO2: 学校名 | AS2: D | AT2: S
B3: 監督名 | M3: 1 | N3: =申込書!J16 | O3: =申込書!R15 | P3: ="("&LEFT(学校･選手ﾃﾞｰﾀ!$K$5,1)&"･" -> (･ | Q3: =学校･選手ﾃﾞｰﾀ!$F$3 -> 0 | R3: ) | S3: =申込書!X15 -> 0 | T3: =申込書!Z15 -> 0 | V3: =申込書!J16 | W3: =申込書!J15 | X3: =申込書!X15 -> 0 | Y3: =申込書!Z15 -> 0 | AA3: =申込書!E4 -> 0 | AB3: 1 | AC3: =申込書!K4 -> 0 | AD3: =学校･選手ﾃﾞｰﾀ!F3 -> 0 | AF3: =申込書!J16 | AG3: =申込書!J15 | AJ3: 1 | AK3: =申込書!J16 | AL3: =申込書!J15 | AM3: =申込書!R15 | AN3: ( | AO3: =学校･選手ﾃﾞｰﾀ!$K$5 -> 0 | AP3: ・ | AQ3: =学校･選手ﾃﾞｰﾀ!$F$3 -> 0 | AR3: ) | AS3: =申込書!X15 -> 0 | AT3: =申込書!Z15 -> 0
A4: =申込書!K4 -> 0 | B4: =学校･選手ﾃﾞｰﾀ!F3 -> 0 | D4: =申込書!J16 | E4: =申込書!R15 | F4: =申込書!J18 | G4: =申込書!R17 | H4: =申込書!J20 | I4: =申込書!R19 | J4: =申込書!J22 | K4: =申込書!R21 | M4: 2 | N4: =申込書!J18 | O4: =申込書!R17 | P4: ="("&LEFT(学校･選手ﾃﾞｰﾀ!$K$5,1)&"･" -> (･ | Q4: =学校･選手ﾃﾞｰﾀ!$F$3 -> 0 | R4: ) | S4: =申込書!X17 -> 0 | T4: =申込書!Z17 -> 0 | V4: =申込書!J18 | W4: =申込書!J17 | X4: =申込書!X17 -> 0 | Y4: =申込書!Z17 -> 0 | AB4: 2 | AC4: =申込書!K4 -> 0 | AD4: =学校･選手ﾃﾞｰﾀ!F3 -> 0 | AF4: =申込書!J18 | AG4: =申込書!J17 | AJ4: 2 | AK4: =申込書!J18 | AL4: =申込書!J17 | AM4: =申込書!R17 | AN4: ( | AO4: =学校･選手ﾃﾞｰﾀ!$K$5 -> 0 | AP4: ・ | AQ4: =学校･選手ﾃﾞｰﾀ!$F$3 -> 0 | AR4: ) | AS4: =申込書!X17 -> 0 | AT4: =申込書!Z17 -> 0
A5: =申込書!E4 -> 0 | B5: =申込書!J14 | D5: =申込書!J24 | E5: =申込書!R23 | F5: =申込書!J26 | G5: =申込書!R25 | H5: =申込書!J28 | I5: =申込書!R27 | J5: =申込書!J30 | K5: =申込書!R29 | M5: 3 | N5: =申込書!J20 | O5: =申込書!R19 | P5: ="("&LEFT(学校･選手ﾃﾞｰﾀ!$K$5,1)&"･" -> (･ | Q5: =学校･選手ﾃﾞｰﾀ!$F$3 -> 0 | R5: ) | S5: =申込書!X19 -> 0 | T5: =申込書!Z19 -> 0 | V5: =申込書!J20 | W5: =申込書!J19 | X5: =申込書!X19 -> 0 | Y5: =申込書!Z19 -> 0 | AB5: 3 | AC5: =申込書!K4 -> 0 | AD5: =学校･選手ﾃﾞｰﾀ!F3 -> 0 | AF5: =申込書!J20 | AG5: =申込書!J19 | AJ5: 3 | AK5: =申込書!J20 | AL5: =申込書!J19 | AM5: =申込書!R19 | AN5: ( | AO5: =学校･選手ﾃﾞｰﾀ!$K$5 -> 0 | AP5: ・ | AQ5: =学校･選手ﾃﾞｰﾀ!$F$3 -> 0 | AR5: ) | AS5: =申込書!X19 -> 0 | AT5: =申込書!Z19 -> 0
M6: 4 | N6: =申込書!J22 | O6: =申込書!R21 | P6: ="("&LEFT(学校･選手ﾃﾞｰﾀ!$K$5,1)&"･" -> (･ | Q6: =学校･選手ﾃﾞｰﾀ!$F$3 -> 0 | R6: ) | S6: =申込書!X21 -> 0 | T6: =申込書!Z21 -> 0 | V6: =申込書!J22 | W6: =申込書!J21 | X6: =申込書!X21 -> 0 | Y6: =申込書!Z21 -> 0 | AB6: 4 | AC6: =申込書!K4 -> 0 | AD6: =学校･選手ﾃﾞｰﾀ!F3 -> 0 | AF6: =申込書!J22 | AG6: =申込書!J21 | AJ6: 4 | AK6: =申込書!J22 | AL6: =申込書!J21 | AM6: =申込書!R21 | AN6: ( | AO6: =学校･選手ﾃﾞｰﾀ!$K$5 -> 0 | AP6: ・ | AQ6: =学校･選手ﾃﾞｰﾀ!$F$3 -> 0 | AR6: ) | AS6: =申込書!X21 -> 0 | AT6: =申込書!Z21 -> 0
M7: 5 | N7: =申込書!J24 | O7: =申込書!R23 | P7: ="("&LEFT(学校･選手ﾃﾞｰﾀ!$K$5,1)&"･" -> (･ | Q7: =学校･選手ﾃﾞｰﾀ!$F$3 -> 0 | R7: ) | S7: =申込書!X23 -> 0 | T7: =申込書!Z23 -> 0 | V7: =申込書!J24 | W7: =申込書!J23 | X7: =申込書!X23 -> 0 | Y7: =申込書!Z23 -> 0 | AB7: 5 | AC7: =申込書!K4 -> 0 | AD7: =学校･選手ﾃﾞｰﾀ!F3 -> 0 | AF7: =申込書!J24 | AG7: =申込書!J23 | AJ7: 5 | AK7: =申込書!J24 | AL7: =申込書!J23 | AM7: =申込書!R23 | AN7: ( | AO7: =学校･選手ﾃﾞｰﾀ!$K$5 -> 0 | AP7: ・ | AQ7: =学校･選手ﾃﾞｰﾀ!$F$3 -> 0 | AR7: ) | AS7: =申込書!X23 -> 0 | AT7: =申込書!Z23 -> 0
M8: 6 | N8: =申込書!J26 | O8: =申込書!R25 | P8: ="("&LEFT(学校･選手ﾃﾞｰﾀ!$K$5,1)&"･" -> (･ | Q8: =学校･選手ﾃﾞｰﾀ!$F$3 -> 0 | R8: ) | S8: =申込書!X25 -> 0 | T8: =申込書!Z25 -> 0 | V8: =申込書!J26 | W8: =申込書!J25 | X8: =申込書!X25 -> 0 | Y8: =申込書!Z25 -> 0 | AB8: 6 | AC8: =申込書!K4 -> 0 | AD8: =学校･選手ﾃﾞｰﾀ!F3 -> 0 | AF8: =申込書!J26 | AG8: =申込書!J25 | AJ8: 6 | AK8: =申込書!J26 | AL8: =申込書!J25 | AM8: =申込書!R25 | AN8: ( | AO8: =学校･選手ﾃﾞｰﾀ!$K$5 -> 0 | AP8: ・ | AQ8: =学校･選手ﾃﾞｰﾀ!$F$3 -> 0 | AR8: ) | AS8: =申込書!X25 -> 0 | AT8: =申込書!Z25 -> 0
M9: 7 | N9: =申込書!J28 | O9: =申込書!R27 | P9: ="("&LEFT(学校･選手ﾃﾞｰﾀ!$K$5,1)&"･" -> (･ | Q9: =学校･選手ﾃﾞｰﾀ!$F$3 -> 0 | R9: ) | S9: =申込書!X27 -> 0 | T9: =申込書!Z27 -> 0 | V9: =申込書!J28 | W9: =申込書!J27 | X9: =申込書!X27 -> 0 | Y9: =申込書!Z27 -> 0 | AB9: 7 | AC9: =申込書!K4 -> 0 | AD9: =学校･選手ﾃﾞｰﾀ!F3 -> 0 | AF9: =申込書!J28 | AG9: =申込書!J27 | AJ9: 7 | AK9: =申込書!J28 | AL9: =申込書!J27 | AM9: =申込書!R27 | AN9: ( | AO9: =学校･選手ﾃﾞｰﾀ!$K$5 -> 0 | AP9: ・ | AQ9: =学校･選手ﾃﾞｰﾀ!$F$3 -> 0 | AR9: ) | AS9: =申込書!X27 -> 0 | AT9: =申込書!Z27 -> 0
M10: 8 | N10: =申込書!J30 | O10: =申込書!R29 | P10: ="("&LEFT(学校･選手ﾃﾞｰﾀ!$K$5,1)&"･" -> (･ | Q10: =学校･選手ﾃﾞｰﾀ!$F$3 -> 0 | R10: ) | S10: =申込書!X29 -> 0 | T10: =申込書!Z29 -> 0 | V10: =申込書!J30 | W10: =申込書!J29 | X10: =申込書!X29 -> 0 | Y10: =申込書!Z29 -> 0 | AB10: 8 | AC10: =申込書!K4 -> 0 | AD10: =学校･選手ﾃﾞｰﾀ!F3 -> 0 | AF10: =申込書!J30 | AG10: =申込書!J29 | AJ10: 8 | AK10: =申込書!J30 | AL10: =申込書!J29 | AM10: =申込書!R29 | AN10: ( | AO10: =学校･選手ﾃﾞｰﾀ!$K$5 -> 0 | AP10: ・ | AQ10: =学校･選手ﾃﾞｰﾀ!$F$3 -> 0 | AR10: ) | AS10: =申込書!X29 -> 0 | AT10: =申込書!Z29 -> 0
M11: 9 | N11: =申込書!J32 | O11: =申込書!R31 | P11: ="("&LEFT(学校･選手ﾃﾞｰﾀ!$K$5,1)&"･" -> (･ | Q11: =学校･選手ﾃﾞｰﾀ!$F$3 -> 0 | R11: ) | S11: =申込書!X31 -> 0 | T11: =申込書!Z31 -> 0 | V11: =申込書!J32 | W11: =申込書!J31 | X11: =申込書!X31 -> 0 | Y11: =申込書!Z31 -> 0 | AJ11: 9 | AK11: =申込書!J32 | AL11: =申込書!J31 | AM11: =申込書!R31 | AN11: ( | AO11: =学校･選手ﾃﾞｰﾀ!$K$5 -> 0 | AP11: ・ | AQ11: =学校･選手ﾃﾞｰﾀ!$F$3 -> 0 | AR11: ) | AS11: =申込書!X31 -> 0 | AT11: =申込書!Z31 -> 0
M12: 10 | N12: =申込書!J34 | O12: =申込書!R33 | P12: ="("&LEFT(学校･選手ﾃﾞｰﾀ!$K$5,1)&"･" -> (･ | Q12: =学校･選手ﾃﾞｰﾀ!$F$3 -> 0 | R12: ) | S12: =申込書!X33 -> 0 | T12: =申込書!Z33 -> 0 | V12: =申込書!J34 | W12: =申込書!J33 | X12: =申込書!X33 -> 0 | Y12: =申込書!Z33 -> 0 | AJ12: 10 | AK12: =申込書!J34 | AL12: =申込書!J33 | AM12: =申込書!R33 | AN12: ( | AO12: =学校･選手ﾃﾞｰﾀ!$K$5 -> 0 | AP12: ・ | AQ12: =学校･選手ﾃﾞｰﾀ!$F$3 -> 0 | AR12: ) | AS12: =申込書!X33 -> 0 | AT12: =申込書!Z33 -> 0
M13: 11 | N13: =申込書!J61 | O13: =申込書!R60 | P13: ="("&LEFT(学校･選手ﾃﾞｰﾀ!$K$5,1)&"･" -> (･ | Q13: =学校･選手ﾃﾞｰﾀ!$F$3 -> 0 | R13: ) | S13: =申込書!X60 -> 0 | T13: =申込書!Z60 -> 0 | V13: =申込書!J61 | W13: =申込書!J60 | X13: =申込書!X60 -> 0 | Y13: =申込書!Z60 -> 0 | AJ13: 11 | AK13: =申込書!J61 | AL13: =申込書!J60 | AM13: =申込書!R60 | AN13: ( | AO13: =学校･選手ﾃﾞｰﾀ!$K$5 -> 0 | AP13: ・ | AQ13: =学校･選手ﾃﾞｰﾀ!$F$3 -> 0 | AR13: ) | AS13: =申込書!X60 -> 0 | AT13: =申込書!Z60 -> 0
M14: 12 | N14: =申込書!J63 | O14: =申込書!R62 | P14: ="("&LEFT(学校･選手ﾃﾞｰﾀ!$K$5,1)&"･" -> (･ | Q14: =学校･選手ﾃﾞｰﾀ!$F$3 -> 0 | R14: ) | S14: =申込書!X62 -> 0 | T14: =申込書!Z62 -> 0 | V14: =申込書!J63 | W14: =申込書!J62 | X14: =申込書!X62 -> 0 | Y14: =申込書!Z62 -> 0 | AJ14: 12 | AK14: =申込書!J63 | AL14: =申込書!J62 | AM14: =申込書!R62 | AN14: ( | AO14: =学校･選手ﾃﾞｰﾀ!$K$5 -> 0 | AP14: ・ | AQ14: =学校･選手ﾃﾞｰﾀ!$F$3 -> 0 | AR14: ) | AS14: =申込書!X62 -> 0 | AT14: =申込書!Z62 -> 0
M15: 13 | N15: =申込書!J65 | O15: =申込書!R64 | P15: ="("&LEFT(学校･選手ﾃﾞｰﾀ!$K$5,1)&"･" -> (･ | Q15: =学校･選手ﾃﾞｰﾀ!$F$3 -> 0 | R15: ) | S15: =申込書!X64 -> 0 | T15: =申込書!Z64 -> 0 | V15: =申込書!J65 | W15: =申込書!J64 | X15: =申込書!X64 -> 0 | Y15: =申込書!Z64 -> 0 | AJ15: 13 | AK15: =申込書!J65 | AL15: =申込書!J64 | AM15: =申込書!R64 | AN15: ( | AO15: =学校･選手ﾃﾞｰﾀ!$K$5 -> 0 | AP15: ・ | AQ15: =学校･選手ﾃﾞｰﾀ!$F$3 -> 0 | AR15: ) | AS15: =申込書!X64 -> 0 | AT15: =申込書!Z64 -> 0
M16: 14 | N16: =申込書!J67 | O16: =申込書!R66 | P16: ="("&LEFT(学校･選手ﾃﾞｰﾀ!$K$5,1)&"･" -> (･ | Q16: =学校･選手ﾃﾞｰﾀ!$F$3 -> 0 | R16: ) | S16: =申込書!X66 -> 0 | T16: =申込書!Z66 -> 0 | V16: =申込書!J67 | W16: =申込書!J66 | X16: =申込書!X66 -> 0 | Y16: =申込書!Z66 -> 0 | AJ16: 14 | AK16: =申込書!J67 | AL16: =申込書!J66 | AM16: =申込書!R66 | AN16: ( | AO16: =学校･選手ﾃﾞｰﾀ!$K$5 -> 0 | AP16: ・ | AQ16: =学校･選手ﾃﾞｰﾀ!$F$3 -> 0 | AR16: ) | AS16: =申込書!X66 -> 0 | AT16: =申込書!Z66 -> 0
M17: 15 | N17: =申込書!J69 | O17: =申込書!R68 | P17: ="("&LEFT(学校･選手ﾃﾞｰﾀ!$K$5,1)&"･" -> (･ | Q17: =学校･選手ﾃﾞｰﾀ!$F$3 -> 0 | R17: ) | S17: =申込書!X68 -> 0 | T17: =申込書!Z68 -> 0 | V17: =申込書!J69 | W17: =申込書!J68 | X17: =申込書!X68 -> 0 | Y17: =申込書!Z68 -> 0 | AJ17: 15 | AK17: =申込書!J69 | AL17: =申込書!J68 | AM17: =申込書!R68 | AN17: ( | AO17: =学校･選手ﾃﾞｰﾀ!$K$5 -> 0 | AP17: ・ | AQ17: =学校･選手ﾃﾞｰﾀ!$F$3 -> 0 | AR17: ) | AS17: =申込書!X68 -> 0 | AT17: =申込書!Z68 -> 0
M18: 16 | N18: =申込書!J71 | O18: =申込書!R70 | P18: ="("&LEFT(学校･選手ﾃﾞｰﾀ!$K$5,1)&"･" -> (･ | Q18: =学校･選手ﾃﾞｰﾀ!$F$3 -> 0 | R18: ) | S18: =申込書!X70 -> 0 | T18: =申込書!Z70 -> 0 | V18: =申込書!J71 | W18: =申込書!J70 | X18: =申込書!X70 -> 0 | Y18: =申込書!Z70 -> 0 | AJ18: 16 | AK18: =申込書!J71 | AL18: =申込書!J70 | AM18: =申込書!R70 | AN18: ( | AO18: =学校･選手ﾃﾞｰﾀ!$K$5 -> 0 | AP18: ・ | AQ18: =学校･選手ﾃﾞｰﾀ!$F$3 -> 0 | AR18: ) | AS18: =申込書!X70 -> 0 | AT18: =申込書!Z70 -> 0
M19: 17 | N19: =申込書!J73 | O19: =申込書!R72 | P19: ="("&LEFT(学校･選手ﾃﾞｰﾀ!$K$5,1)&"･" -> (･ | Q19: =学校･選手ﾃﾞｰﾀ!$F$3 -> 0 | R19: ) | S19: =申込書!X72 -> 0 | T19: =申込書!Z72 -> 0 | V19: =申込書!J73 | W19: =申込書!J72 | X19: =申込書!X72 -> 0 | Y19: =申込書!Z72 -> 0 | AJ19: 17 | AK19: =申込書!J73 | AL19: =申込書!J72 | AM19: =申込書!R72 | AN19: ( | AO19: =学校･選手ﾃﾞｰﾀ!$K$5 -> 0 | AP19: ・ | AQ19: =学校･選手ﾃﾞｰﾀ!$F$3 -> 0 | AR19: ) | AS19: =申込書!X72 -> 0 | AT19: =申込書!Z72 -> 0
M20: 18 | N20: =申込書!J75 | O20: =申込書!R74 | P20: ="("&LEFT(学校･選手ﾃﾞｰﾀ!$K$5,1)&"･" -> (･ | Q20: =学校･選手ﾃﾞｰﾀ!$F$3 -> 0 | R20: ) | S20: =申込書!X74 -> 0 | T20: =申込書!Z74 -> 0 | V20: =申込書!J75 | W20: =申込書!J74 | X20: =申込書!X74 -> 0 | Y20: =申込書!Z74 -> 0 | AJ20: 18 | AK20: =申込書!J75 | AL20: =申込書!J74 | AM20: =申込書!R74 | AN20: ( | AO20: =学校･選手ﾃﾞｰﾀ!$K$5 -> 0 | AP20: ・ | AQ20: =学校･選手ﾃﾞｰﾀ!$F$3 -> 0 | AR20: ) | AS20: =申込書!X74 -> 0 | AT20: =申込書!Z74 -> 0
M21: 19 | N21: =申込書!J77 | O21: =申込書!R76 | P21: ="("&LEFT(学校･選手ﾃﾞｰﾀ!$K$5,1)&"･" -> (･ | Q21: =学校･選手ﾃﾞｰﾀ!$F$3 -> 0 | R21: ) | S21: =申込書!X76 -> 0 | T21: =申込書!Z76 -> 0 | V21: =申込書!J77 | W21: =申込書!J76 | X21: =申込書!X76 -> 0 | Y21: =申込書!Z76 -> 0 | AJ21: 19 | AK21: =申込書!J77 | AL21: =申込書!J76 | AM21: =申込書!R76 | AN21: ( | AO21: =学校･選手ﾃﾞｰﾀ!$K$5 -> 0 | AP21: ・ | AQ21: =学校･選手ﾃﾞｰﾀ!$F$3 -> 0 | AR21: ) | AS21: =申込書!X76 -> 0 | AT21: =申込書!Z76 -> 0
M22: 20 | N22: =申込書!J79 | O22: =申込書!R78 | P22: ="("&LEFT(学校･選手ﾃﾞｰﾀ!$K$5,1)&"･" -> (･ | Q22: =学校･選手ﾃﾞｰﾀ!$F$3 -> 0 | R22: ) | S22: =申込書!X78 -> 0 | T22: =申込書!Z78 -> 0 | V22: =申込書!J79 | W22: =申込書!J78 | X22: =申込書!X78 -> 0 | Y22: =申込書!Z78 -> 0 | AJ22: 20 | AK22: =申込書!J79 | AL22: =申込書!J78 | AM22: =申込書!R78 | AN22: ( | AO22: =学校･選手ﾃﾞｰﾀ!$K$5 -> 0 | AP22: ・ | AQ22: =学校･選手ﾃﾞｰﾀ!$F$3 -> 0 | AR22: ) | AS22: =申込書!X78 -> 0 | AT22: =申込書!Z78 -> 0
